BEGIN:VCALENDAR
VERSION:2.0
PRODID:-//Fundación Antonio Gala - ECPv5.7.0//NONSGML v1.0//EN
CALSCALE:GREGORIAN
METHOD:PUBLISH
X-WR-CALNAME:Fundación Antonio Gala
X-ORIGINAL-URL:https://www.fundacionantoniogala.org
X-WR-CALDESC:Eventos para Fundación Antonio Gala
BEGIN:VTIMEZONE
TZID:Europe/Madrid
BEGIN:DAYLIGHT
TZOFFSETFROM:+0100
TZOFFSETTO:+0200
TZNAME:CEST
DTSTART:20230326T010000
END:DAYLIGHT
BEGIN:STANDARD
TZOFFSETFROM:+0200
TZOFFSETTO:+0100
TZNAME:CET
DTSTART:20231029T010000
END:STANDARD
END:VTIMEZONE
BEGIN:VEVENT
DTSTART;TZID=Europe/Madrid:20230422T130000
DTEND;TZID=Europe/Madrid:20230422T140000
DTSTAMP:20260421T064117
CREATED:20230415T180312Z
LAST-MODIFIED:20230415T180312Z
UID:36113-1682168400-1682172000@www.fundacionantoniogala.org
SUMMARY:La Fundación presenta "Islas errantes" en la Feria del Libro de Granada
DESCRIPTION:La Fundación Antonio Gala presenta el poemario Islas errantes. Veinte años de poesía en la Fundación Antonio Gala en la Feria del Libro de Granada el día 22 de abril a las 13.00 horas. La presentación\, que se estará a cargo del pintor Juan Vida\, tendrá lugar en el Centro Artístico\, Literario y Científico (C/ Almona del Campillo\, 2)\, y también contará con la intervención del poeta Ben Clark\, autor de la antología\, y de la escritora Violeta Font\, una de las voces que recoge el volumen. Islas errantes ha sido publicado por la editorial Juancaballos de Poesía y cuenta con unas palabras previas de Antonio Gala y un prólogo de Antonio Muñoz Molina\, vicepresidente de la Fundación Antonio Gala. En Islas errantes se han reunido poemas de diferentes etapas de las trayectorias de poetas de la talla de Gonzalo Escarpa\, José Martínez Ros\, Javier Vela\, Ángela Álvarez Sáez\, Verónica Aranda\, Javier Vicedo Alós\, David Leo García\, Cristian Alcaraz\, Alberto Guirao\, Raquel Vázquez\, Javier Temprado Blanquer\, Sara Torres\, Sergio Navarro\, Luciana Jazmín Coronado\, Carla Nyman\, Juan Domingo Aguilar\, Estefanía Arista\, Juan de Beatriz. Miguel Sánchez Santamaría y Violeta Font. \nCompartir:
URL:https://www.fundacionantoniogala.org/evento/la-fundacion-presenta-islas-errantes-en-la-feria-del-libro-de-granada
LOCATION:Centro Artistico\, Literario y Cientifico\, C/ Almona del Campillo\, 2\, Granada\, Granada\, 18009\, España
CATEGORIES:Presentación
ATTACH;FMTTYPE=image/jpeg:https://www.fundacionantoniogala.org/wp-content/uploads/2023/04/Islas-errantes-2.jpg
END:VEVENT
END:VCALENDAR