BEGIN:VCALENDAR
VERSION:2.0
PRODID:-//Fundación Antonio Gala - ECPv5.7.0//NONSGML v1.0//EN
CALSCALE:GREGORIAN
METHOD:PUBLISH
X-WR-CALNAME:Fundación Antonio Gala
X-ORIGINAL-URL:https://www.fundacionantoniogala.org
X-WR-CALDESC:Eventos para Fundación Antonio Gala
BEGIN:VTIMEZONE
TZID:Europe/Madrid
BEGIN:DAYLIGHT
TZOFFSETFROM:+0100
TZOFFSETTO:+0200
TZNAME:CEST
DTSTART:20240331T010000
END:DAYLIGHT
BEGIN:STANDARD
TZOFFSETFROM:+0200
TZOFFSETTO:+0100
TZNAME:CET
DTSTART:20241027T010000
END:STANDARD
END:VTIMEZONE
BEGIN:VEVENT
DTSTART;TZID=Europe/Madrid:20240126T200000
DTEND;TZID=Europe/Madrid:20240126T210000
DTSTAMP:20260420T140130
CREATED:20240123T111418Z
LAST-MODIFIED:20240123T111418Z
UID:37139-1706299200-1706302800@www.fundacionantoniogala.org
SUMMARY:Diego Flórez estrena su "Atlas de caminos"
DESCRIPTION:El compositor Diego Flórez\, quien fue residente de la vigesimoprimera promoción de jóvenes creadores de la Fundación Antonio Gala\, protagoniza el concierto que acoge la Fundación el viernes 26 de enero a las 20.00 horas\, en el que estrenará su grabación Atlas de caminos\, compuesta durante su residencia en el curso 2022-2023. Diego Flórez explora lo natural mediante técnicas digitales y artificiales. La síntesis y las grabaciones de campo conviven en su universo sonoro\, en el que naturaleza y máquina conviven: en ocasiones colisionan; otras veces\, se abrazan.En directo\, toma como base sus obras acusmáticas -programadas originalmente en Supercollider– para adaptarlas al live-coding. En la parte acústica\, acompaña improvisando con varios instrumentos. Intenta cuestionar la noción de instrumento\, utilizando para su música objetos corrientes o tocando de formas poco convencionales.  \nCompartir:
URL:https://www.fundacionantoniogala.org/evento/diego-florez-estrena-su-atlas-de-caminos
LOCATION:Fundación Antonio Gala\, AMBROSIO DE MORALES\, 20\, Córdoba\, 14003\, España
CATEGORIES:Concierto
ATTACH;FMTTYPE=image/jpeg:https://www.fundacionantoniogala.org/wp-content/uploads/2024/01/diegoflorez_atlas.jpg
END:VEVENT
END:VCALENDAR